BEGIN:VCALENDAR
VERSION:2.0
PRODID:-//hacksw/handcal//NONSGML v1.0//EN
BEGIN:VEVENT
SUMMARY:Interclubs U13 et U15
UID:49017314-a415-44f9-bc17-0e3c034c98b6
DTSTART:20260530T220000Z
DTEND:20260531T220000Z
LOCATION:Localisation   
CATEGORIES:Sportif
STATUS:
DESCRIPTION:
 
 <p><strong>Chere nageuse, cher
 nageur,</strong></p>
 
 <p>Vous etes convoque(e) pour participer
 aux <strong>Interclubs U13 et U15</strong>, qui se derouleront
 le <strong>dimanche 31 mai 2026
 apres-midi</strong>.</p>
 
 <p><strong>📅 Date :</strong> Dimanche
 31 mai 2026 (apres-midi)<br>
 <strong>📍 Lieu
 :</strong> Annecy</p>
 
 <p><strong>🎯 Objectif
 :</strong> Rapporter un maximum de points pour le
 club.</p>
 
 <hr>
 <h3>🚗 Deplacement & logistique</h3>
 
 <p>Le
 rendez-vous est fixe <strong>sur place le dimanche
 apres-midi</strong>.<br>
 Les horaires precis vous seront communiques
 dans la semaine precedant la competition.</p>
 
 <hr>
 <h3>⚠️
 Informations importantes</h3>
 
 <ul>
 	<li>Les Interclubs sont
 une <strong>competition obligatoire</strong>, avec pour objectif de
 contribuer au classement du club.</li>
 	<li>Merci de
 prevoir <strong>l’equipement complet</strong> : maillot, bonnet,
 lunettes, tee-shirt du club, baskets, tenue de rechange, gourde,
 etc.</li>
 	<li>Veillez a <strong>respecter les consignes des
 entraineurs</strong> afin d’optimiser votre preparation et votre
 recuperation.</li>
 </ul>
 
 <hr>
 <p>Merci de <strong>confirmer votre
 presence avant le vendredi 1er mai 2026</strong>.</p>
 
 <p>Pour toute
 question, vous pouvez contacter <strong>Hugo Lardeux</strong>.</p>
URL;VALUE=URI:https://annemasse-natation.sportsregions.fr/evenements/2026/05/31/interclubs-u13-et-u15-2443651
END:VEVENT
END:VCALENDAR
