BEGIN:VCALENDAR
VERSION:2.0
PRODID:-//hacksw/handcal//NONSGML v1.0//EN
BEGIN:VEVENT
SUMMARY:Championnat de France Eau Libre - Brive
UID:7416b80c-036f-4fd6-8578-ae02e9b2a0e2
DTSTART:20260604T220000Z
DTEND:20260607T220000Z
LOCATION:Localisation   
CATEGORIES:Sportif
STATUS:
URL;VALUE=URI:https://annemasse-natation.sportsregions.fr/evenements/2026/06/05/championnat-de-france-eau-libre-brive-2443210
END:VEVENT
END:VCALENDAR
