BEGIN:VCALENDAR
VERSION:2.0
PRODID:-//hacksw/handcal//NONSGML v1.0//EN
BEGIN:VEVENT
SUMMARY:Championnat departemental Ete - Morzine
UID:d8f135e2-5ef8-4742-958e-feea86bc903d
DTSTART:20260614T050000Z
DTEND:20260614T160000Z
LOCATION:Localisation   
CATEGORIES:Sportif
STATUS:
URL;VALUE=URI:https://annemasse-natation.sportsregions.fr/evenements/2026/06/14/championnat-departemental-ete-morzine-2443203
END:VEVENT
END:VCALENDAR
