BEGIN:VCALENDAR
VERSION:2.0
PRODID:-//hacksw/handcal//NONSGML v1.0//EN
BEGIN:VEVENT
SUMMARY:Championnat de France Elite - Saint-Etienne
UID:7da67ef7-74b8-4df9-9730-3e399cdd9ef2
DTSTART:20260627T220000Z
DTEND:20260702T220000Z
LOCATION:Localisation   
CATEGORIES:Sportif
STATUS:
URL;VALUE=URI:https://annemasse-natation.sportsregions.fr/evenements/2026/06/28/championnat-de-france-elite-saint-etienne-2443206
END:VEVENT
END:VCALENDAR
