BEGIN:VCALENDAR
VERSION:2.0
PRODID:-//hacksw/handcal//NONSGML v1.0//EN
BEGIN:VEVENT
SUMMARY:Championnat de Ligue Aura - Clermont-Ferrand
UID:c931e872-8469-4303-95f1-e79e5e688d5c
DTSTART:20260702T220000Z
DTEND:20260705T220000Z
LOCATION:Localisation   
CATEGORIES:Sportif
STATUS:
URL;VALUE=URI:https://annemasse-natation.sportsregions.fr/evenements/2026/07/03/championnat-de-ligue-aura-clermont-ferrand-2443208
END:VEVENT
END:VCALENDAR
