BEGIN:VCALENDAR
VERSION:2.0
PRODID:-//hacksw/handcal//NONSGML v1.0//EN
BEGIN:VEVENT
SUMMARY:Open Ete - Canet en Roussillon
UID:d7a40145-c6a0-4b06-8448-6626e3a4c3e3
DTSTART:20260716T220000Z
DTEND:20260722T220000Z
LOCATION:Localisation   
CATEGORIES:Sportif
STATUS:
URL;VALUE=URI:https://annemasse-natation.sportsregions.fr/evenements/2026/07/17/open-ete-canet-en-roussillon-2443209
END:VEVENT
END:VCALENDAR
